BEGIN:VCALENDAR
PRODID:-//Microsoft Corporation//Outlook 12.0 MIMEDIR//EN
VERSION:2.0
CALSCALE:GREGORIAN
BEGIN:VEVENT
UID: 4e5cd349-1ade-452d-8b0a-c9d8edfc64e7
SUMMARY:Põhikooli lõpueksam eesti keeles
DTSTAMP:20260421T100000
DTSTART:20260421T100000
DTEND:20260421T133000
LOCATION:Tarvastu Gümnaasium
DESCRIPTION: <p><strong>Link: </strong>https://tarvastu.vil.ee/et/sundmuste-kalender/pohikooli-lopueksam-eesti-keeles</p><p><strong>Hind: </strong></p>
STATUS:CONFIRMED
SEQUENCE:3
X-ALT-DESC;FMTTYPE=text/html:<p><strong>Link: </strong>https://tarvastu.vil.ee/et/sundmuste-kalender/pohikooli-lopueksam-eesti-keeles</p><p><strong>Hind: </strong></p>
X-MICROSOFT-CDO-BUSYSTATUS:OOF
X-MICROSOFT-CDO-IMPORTANCE:1
X-MICROSOFT-DISALLOW-COUNTER:FALSE
X-MS-OLK-ALLOWEXTERNCHECK:TRUE
X-MS-OLK-CONFTYPE:0
X-MICROSOFT-CDO-ALLDAYEVENT:
X-MICROSOFT-MSNCALENDAR-ALLDAYEVENT:
END:VEVENT
END:VCALENDAR