BEGIN:VCALENDAR
PRODID:-//Microsoft Corporation//Outlook 12.0 MIMEDIR//EN
VERSION:2.0
CALSCALE:GREGORIAN
BEGIN:VEVENT
UID: b087204a-e7e0-45e8-8809-05a573656e93
SUMMARY:Füüsika ja kirjanduse õpitoad 8. klassile
DTSTAMP:20260422T091500
DTSTART:20260422T091500
DTEND:20260422T130000
LOCATION:Viljandi raamatukogu
DESCRIPTION: <div class="post-body formatted-text" style="-webkit-text-stroke-width:0px;background-color:rgb(252, 254, 255);border-width:0px;box-sizing:border-box;color:rgb(17, 17, 17);font-family:&quot;Stuudium Sans&quot;, BlinkMacSystemFont, -apple-system, &quot;Segoe UI&quot;, Roboto, Helvetica, Arial, sans-serif;font-feature-settings:inherit;font-kerning:inherit;font-language-override:inherit;font-optical-sizing:inherit;font-size-adjust:inherit;font-size:15px;font-stretch:inherit;font-style:normal;font-variant-alternates:inherit;font-variant-caps:normal;font-variant-east-asian:inherit;font-variant-emoji:inherit;font-variant-ligatures:normal;font-variant-numeric:inherit;font-variant-position:inherit;font-variation-settings:inherit;font-weight:400;letter-spacing:-0.135px;line-height:1.6em;margin:10px 10px 10px 0px;orphans:2;overflow-wrap:break-word;padding:0px;text-align:start;text-decoration-color:initial;text-decoration-style:initial;text-decoration-thickness:initial;text-indent:0px;text-transform:none;vertical-align:baseline;white-space:normal;widows:2;word-break:break-word;word-spacing:0px;">8. klass külastab Viljandi raamatukogu ja Taibukate Teaduskooli õppelaborit.</div><div class="post-actions" style="-webkit-text-stroke-width:0px;background-color:rgb(252, 254, 255);border-width:0px;box-sizing:border-box;color:rgb(17, 17, 17);display:flex;font-family:&quot;Stuudium Sans&quot;, BlinkMacSystemFont, -apple-system, &quot;Segoe UI&quot;, Roboto, Helvetica, Arial, sans-serif;font-feature-settings:inherit;font-kerning:inherit;font-language-override:inherit;font-optical-sizing:inherit;font-size-adjust:inherit;font-size:15px;font-stretch:inherit;font-style:normal;font-variant-alternates:inherit;font-variant-caps:normal;font-variant-east-asian:inherit;font-variant-emoji:inherit;font-variant-ligatures:normal;font-variant-numeric:inherit;font-variant-position:inherit;font-variation-settings:inherit;font-weight:400;justify-content:space-between;letter-spacing:-0.135px;line-height:inherit;margin:30px 0px 0px;orphans:2;padding:0px;text-align:start;text-decoration-color:initial;text-decoration-style:initial;text-decoration-thickness:initial;text-indent:0px;text-transform:none;vertical-align:baseline;white-space:normal;widows:2;width:504.444px;word-spacing:0px;" data-suhtlus-role="remove-on-collapse">&nbsp;</div><p><br>&nbsp;</p><p><strong>Link: </strong>https://tarvastu.vil.ee/et/koolituste-kalender/fuusika-ja-kirjanduse-opitoad-8-klassile</p><p><strong>Hind: </strong></p>
STATUS:CONFIRMED
SEQUENCE:3
X-ALT-DESC;FMTTYPE=text/html:<div class="post-body formatted-text" style="-webkit-text-stroke-width:0px;background-color:rgb(252, 254, 255);border-width:0px;box-sizing:border-box;color:rgb(17, 17, 17);font-family:&quot;Stuudium Sans&quot;, BlinkMacSystemFont, -apple-system, &quot;Segoe UI&quot;, Roboto, Helvetica, Arial, sans-serif;font-feature-settings:inherit;font-kerning:inherit;font-language-override:inherit;font-optical-sizing:inherit;font-size-adjust:inherit;font-size:15px;font-stretch:inherit;font-style:normal;font-variant-alternates:inherit;font-variant-caps:normal;font-variant-east-asian:inherit;font-variant-emoji:inherit;font-variant-ligatures:normal;font-variant-numeric:inherit;font-variant-position:inherit;font-variation-settings:inherit;font-weight:400;letter-spacing:-0.135px;line-height:1.6em;margin:10px 10px 10px 0px;orphans:2;overflow-wrap:break-word;padding:0px;text-align:start;text-decoration-color:initial;text-decoration-style:initial;text-decoration-thickness:initial;text-indent:0px;text-transform:none;vertical-align:baseline;white-space:normal;widows:2;word-break:break-word;word-spacing:0px;">8. klass külastab Viljandi raamatukogu ja Taibukate Teaduskooli õppelaborit.</div><div class="post-actions" style="-webkit-text-stroke-width:0px;background-color:rgb(252, 254, 255);border-width:0px;box-sizing:border-box;color:rgb(17, 17, 17);display:flex;font-family:&quot;Stuudium Sans&quot;, BlinkMacSystemFont, -apple-system, &quot;Segoe UI&quot;, Roboto, Helvetica, Arial, sans-serif;font-feature-settings:inherit;font-kerning:inherit;font-language-override:inherit;font-optical-sizing:inherit;font-size-adjust:inherit;font-size:15px;font-stretch:inherit;font-style:normal;font-variant-alternates:inherit;font-variant-caps:normal;font-variant-east-asian:inherit;font-variant-emoji:inherit;font-variant-ligatures:normal;font-variant-numeric:inherit;font-variant-position:inherit;font-variation-settings:inherit;font-weight:400;justify-content:space-between;letter-spacing:-0.135px;line-height:inherit;margin:30px 0px 0px;orphans:2;padding:0px;text-align:start;text-decoration-color:initial;text-decoration-style:initial;text-decoration-thickness:initial;text-indent:0px;text-transform:none;vertical-align:baseline;white-space:normal;widows:2;width:504.444px;word-spacing:0px;" data-suhtlus-role="remove-on-collapse">&nbsp;</div><p><br>&nbsp;</p><p><strong>Link: </strong>https://tarvastu.vil.ee/et/koolituste-kalender/fuusika-ja-kirjanduse-opitoad-8-klassile</p><p><strong>Hind: </strong></p>
X-MICROSOFT-CDO-BUSYSTATUS:OOF
X-MICROSOFT-CDO-IMPORTANCE:1
X-MICROSOFT-DISALLOW-COUNTER:FALSE
X-MS-OLK-ALLOWEXTERNCHECK:TRUE
X-MS-OLK-CONFTYPE:0
X-MICROSOFT-CDO-ALLDAYEVENT:
X-MICROSOFT-MSNCALENDAR-ALLDAYEVENT:
END:VEVENT
END:VCALENDAR