BEGIN:VCALENDAR
PRODID:-//Microsoft Corporation//Outlook 12.0 MIMEDIR//EN
VERSION:2.0
CALSCALE:GREGORIAN
BEGIN:VEVENT
UID: dac5cf3d-4852-4979-89be-86993dcea140
SUMMARY:12. klassi inglise keele riigieksam
DTSTAMP:20260427T100000
DTSTART:20260427T100000
DTEND:20260427T150000
LOCATION:Tarvastu Gümnaasium
DESCRIPTION: <p><strong>Link: </strong>https://tarvastu.vil.ee/et/sundmuste-kalender/12-klassi-inglise-keele-riigieksam</p><p><strong>Hind: </strong></p>
STATUS:CONFIRMED
SEQUENCE:3
X-ALT-DESC;FMTTYPE=text/html:<p><strong>Link: </strong>https://tarvastu.vil.ee/et/sundmuste-kalender/12-klassi-inglise-keele-riigieksam</p><p><strong>Hind: </strong></p>
X-MICROSOFT-CDO-BUSYSTATUS:OOF
X-MICROSOFT-CDO-IMPORTANCE:1
X-MICROSOFT-DISALLOW-COUNTER:FALSE
X-MS-OLK-ALLOWEXTERNCHECK:TRUE
X-MS-OLK-CONFTYPE:0
X-MICROSOFT-CDO-ALLDAYEVENT:
X-MICROSOFT-MSNCALENDAR-ALLDAYEVENT:
END:VEVENT
END:VCALENDAR