BEGIN:VCALENDAR
PRODID:-//Microsoft Corporation//Outlook 12.0 MIMEDIR//EN
VERSION:2.0
CALSCALE:GREGORIAN
BEGIN:VEVENT
UID: 2bdbe151-8e41-4a81-b7d0-2da3c6f3b722
SUMMARY:3.b klassi päästeameti külaskäik
DTSTAMP:20260428T120000
DTSTART:20260428T120000
DTEND:20260428T140000
LOCATION:
DESCRIPTION: <p><strong>Link: </strong>https://tarvastu.vil.ee/et/sundmuste-kalender/3b-klassi-paasteameti-kulaskaik</p><p><strong>Hind: </strong></p>
STATUS:CONFIRMED
SEQUENCE:3
X-ALT-DESC;FMTTYPE=text/html:<p><strong>Link: </strong>https://tarvastu.vil.ee/et/sundmuste-kalender/3b-klassi-paasteameti-kulaskaik</p><p><strong>Hind: </strong></p>
X-MICROSOFT-CDO-BUSYSTATUS:OOF
X-MICROSOFT-CDO-IMPORTANCE:1
X-MICROSOFT-DISALLOW-COUNTER:FALSE
X-MS-OLK-ALLOWEXTERNCHECK:TRUE
X-MS-OLK-CONFTYPE:0
X-MICROSOFT-CDO-ALLDAYEVENT:
X-MICROSOFT-MSNCALENDAR-ALLDAYEVENT:
END:VEVENT
END:VCALENDAR